BEGIN:VCALENDAR
VERSION:2.0
PRODID:http://www.eli-ja.de
BEGIN:VEVENT
UID:ea672793-3dc0-11f1-a3e9-0242ac11002b-1778744700000-de
DTSTAMP:20260421T203020Z
DTSTART:20260514T074500Z
DTEND:20260514T140000Z
SUMMARY;LANGUAGE=de:Christi Himmelfahrt mit eli.ja – Gottesdienst und gemeinsames Picknick in Wustweiler
DESCRIPTION;LANGUAGE=de:An Christi Himmelfahrt feiern wir unseren Gottesdienst von eli.ja in der Statio Dominus Mundi in Wustweiler. Im Anschluss möchten wir den Tag in gemeinschaftlicher Atmosphäre bei einem Picknick auf einer nahegelegenen Wiese ausklingen lassen.\nDie Anreise sowie die Teilnahme sind ausschließlich mit einem angemieteten Reisebus möglich. Aufgrund der begrenzten Platzkapazität in der Statio ist eine Voranmeldung erforderlich.\nFür euch entstehen keine Kosten.\nAblauf des Tages\nbis 09:45 Uhr – Treffen in eli.ja\n10:00 Uhr – Abfahrt mit dem Bus ab eli.ja\n10:30 Uhr – Ankunft an der Statio Dominus Mundi\n11:00 Uhr – Gottesdienst zu Christi Himmelfahrt\nab 12:30 Uhr – Zwei Möglichkeiten:\nTeilnahme an einer etwa 30-minütigen Führung zu den Kunstwerken und zur Architektur der Statio durch Familie Meiser; anschließend gemeinsamer Fußweg zu einer Waldlichtung zum Picknick\nDirekter gemeinsamer Fußweg zur Waldlichtung zum Picknick\n15:15 Uhr – Rückfahrt ab Wustweiler\n16:00 Uhr – Ankunft in eli.ja und Ende der Veranstaltung\nWir freuen uns auf einen schönen gemeinsamen Christi-Himmelfahrts-Tag!
LOCATION;LANGUAGE=de:Statio Dominus Mundi\, Waldstraße 31\, 66557 Illingen-Wustweiler
IMAGE;VALUE=URI;DISPLAY=BADGE;FMTTYPE=image/jpeg:http://www.eli-ja.de/export/sites/jugend/eli.ja-saarbruecken/.galleries/bilder/aktuelleschristihimmelfahrt2026quer.png
END:VEVENT
END:VCALENDAR
