BEGIN:VCALENDAR
VERSION:2.0
PRODID:http://www.eli-ja.de
BEGIN:VEVENT
UID:af439968-3e1e-11f1-a3e9-0242ac11002b-1778346000000-de
DTSTAMP:20260422T074133Z
DTSTART:20260509T170000Z
DTEND:20260509T190000Z
SUMMARY;LANGUAGE=de:Gesprächsabend
DESCRIPTION;LANGUAGE=de:An diesem Abend wollen wir gemeinsam essen\, diskutieren und ins Gespräch kommen. Egal\, welche Fragen und Themen dich beschäftigen\, du kannst sie gerne mitbringen und wir sprechen darüber. Alles findet in einer angenehmen und ausgelassenen Atmosphäre statt. Wir freuen uns auf dich!
IMAGE;VALUE=URI;DISPLAY=BADGE;FMTTYPE=image/jpeg:http://www.eli-ja.de/export/sites/jugend/eli.ja-saarbruecken/.galleries/bilder/gespr.jpg_242510548.jpg
URL:http://www.eli-ja.de/veranstaltung/Gespraechsabend-2026.05.09/
END:VEVENT
END:VCALENDAR
